BEGIN:VCALENDAR
VERSION:2.0
PRODID:-//Danny White Fishing - ECPv6.1.3//NONSGML v1.0//EN
CALSCALE:GREGORIAN
METHOD:PUBLISH
X-ORIGINAL-URL:https://dannywhitefishing.com
X-WR-CALDESC:Events for Danny White Fishing
REFRESH-INTERVAL;VALUE=DURATION:PT1H
X-Robots-Tag:noindex
X-PUBLISHED-TTL:PT1H
BEGIN:VTIMEZONE
TZID:America/New_York
BEGIN:DAYLIGHT
TZOFFSETFROM:-0500
TZOFFSETTO:-0400
TZNAME:EDT
DTSTART:20250309T070000
END:DAYLIGHT
BEGIN:STANDARD
TZOFFSETFROM:-0400
TZOFFSETTO:-0500
TZNAME:EST
DTSTART:20251102T060000
END:STANDARD
END:VTIMEZONE
BEGIN:VEVENT
DTSTART;VALUE=DATE:20250213
DTEND;VALUE=DATE:20250216
DTSTAMP:20260425T084859
CREATED:20250116T202429Z
LAST-MODIFIED:20250116T202429Z
UID:278-1739404800-1739663999@dannywhitefishing.com
SUMMARY:Toyota Series
DESCRIPTION:
URL:https://dannywhitefishing.com/event/toyota-series/
LOCATION:Lake Okeechobee\, Clewiston\, FL
END:VEVENT
BEGIN:VEVENT
DTSTART;VALUE=DATE:20250327
DTEND;VALUE=DATE:20250330
DTSTAMP:20260425T084859
CREATED:20250116T202501Z
LAST-MODIFIED:20250116T202501Z
UID:279-1743033600-1743292799@dannywhitefishing.com
SUMMARY:Toyota Series
DESCRIPTION:
URL:https://dannywhitefishing.com/event/toyota-series-2/
LOCATION:Harris Chain\, Leesburg\, FL\, United States
END:VEVENT
BEGIN:VEVENT
DTSTART;VALUE=DATE:20250424
DTEND;VALUE=DATE:20250427
DTSTAMP:20260425T084859
CREATED:20250116T202523Z
LAST-MODIFIED:20250116T202523Z
UID:280-1745452800-1745711999@dannywhitefishing.com
SUMMARY:Toyota Series
DESCRIPTION:
URL:https://dannywhitefishing.com/event/toyota-series-3/
LOCATION:Lake Seminole\, Bainbridge\, GA
END:VEVENT
END:VCALENDAR